BEGIN:VCALENDAR
VERSION:2.0
PRODID:-//Tukios.com/
BEGIN:VEVENT
UID:45797e45-3426-4a64-a032-c1e96057bd90@www.kramer-morrisfuneralhome.com
DTSTAMP:20260424T195618Z
DTSTART:20260429T170000Z
DTEND:20260429T180000Z
SUMMARY:Funeral Service
DESCRIPTION:
URL:https://www.kramer-morrisfuneralhome.com/obituaries/jeffrey-jacobs
LOCATION: 27802 Hwy 13  Elkader IA 52043
GEO:42.8218579;-91.4063449
END:VEVENT
END:VCALENDAR