BEGIN:VCALENDAR
VERSION:2.0
PRODID:-//Tukios.com/
BEGIN:VEVENT
UID:df887dbc-36f5-4db5-9b7d-78346cceb3b8@www.kramer-morrisfuneralhome.com
DTSTAMP:20260424T194830Z
DTSTART:20260429T143000Z
DTEND:20260429T163000Z
SUMMARY:Visitation
DESCRIPTION:
URL:https://www.kramer-morrisfuneralhome.com/obituaries/jeffrey-jacobs
LOCATION:Grace Evangelical Free Church 27802 Hwy 13  Elkader IA 52043
GEO:42.8218579;-91.4063449
END:VEVENT
END:VCALENDAR