BEGIN:VCALENDAR
VERSION:2.0
PRODID:-//Tukios.com/
BEGIN:VEVENT
UID:989ecd0d-71b2-4885-bf7f-df022d774b19@www.kramer-morrisfuneralhome.com
DTSTAMP:20260426T003257Z
DTSTART:20260428T170000Z
DTEND:20260428T173000Z
SUMMARY:Burial
DESCRIPTION:
URL:https://www.kramer-morrisfuneralhome.com/obituaries/hermie-schroeder
LOCATION:  Colesburg Road   IA 
GEO:42.6838164;-91.240544
END:VEVENT
END:VCALENDAR