BEGIN:VCALENDAR
VERSION:2.0
PRODID:-//Tukios.com/
BEGIN:VEVENT
UID:6f5acf6c-c29e-4f8b-90b5-46ab7982a218@www.kramer-morrisfuneralhome.com
DTSTAMP:20260426T003542Z
DTSTART:20260428T160000Z
DTEND:20260428T170000Z
SUMMARY:Funeral Service
DESCRIPTION:
URL:https://www.kramer-morrisfuneralhome.com/obituaries/hermie-schroeder
LOCATION:St. John’s Congregational Church 701 Zapf St  Garber IA 52048
GEO:42.7436248;-91.2644324
END:VEVENT
END:VCALENDAR