BEGIN:VCALENDAR
VERSION:2.0
PRODID:-//Tukios.com/
BEGIN:VEVENT
UID:5f78572c-c94e-4a1d-b275-02704a572f82@www.kramer-morrisfuneralhome.com
DTSTAMP:20260426T003817Z
DTSTART:20260427T150000Z
DTEND:20260427T160000Z
SUMMARY:Visitation
DESCRIPTION:
URL:https://www.kramer-morrisfuneralhome.com/obituaries/hermie-schroeder
LOCATION:St. John’s Congregational Church 701 Zapf St  Garber IA 52048
GEO:42.7436248;-91.2644324
END:VEVENT
END:VCALENDAR