BEGIN:VCALENDAR
VERSION:2.0
PRODID:-//Tukios.com/
BEGIN:VEVENT
UID:c9315bf4-2d0f-4f5f-8481-91b87d891dae@www.kramer-morrisfuneralhome.com
DTSTAMP:20260426T003722Z
DTSTART:20260427T200000Z
DTEND:20260428T010000Z
SUMMARY:Visitation
DESCRIPTION:
URL:https://www.kramer-morrisfuneralhome.com/obituaries/hermie-schroeder
LOCATION: 207 South 1st Street  Guttenberg IA 52052
GEO:42.784583;-91.0974586
END:VEVENT
END:VCALENDAR