BEGIN:VCALENDAR
VERSION:2.0
PRODID:-//Tukios.com/
BEGIN:VEVENT
UID:e93961c4-e582-4fd4-9cb1-df82ce4b481a@www.kramer-morrisfuneralhome.com
DTSTAMP:20260420T173012Z
DTSTART:20260425T150000Z
DTEND:20260425T160000Z
SUMMARY:Memorial Service
DESCRIPTION:
URL:https://www.kramer-morrisfuneralhome.com/obituaries/alexzander-foster
LOCATION:Kramer-Morris Funeral Home 700 East Oak Street  Monticello IA 
	52310
GEO:42.23298;-91.18134
END:VEVENT
END:VCALENDAR