BEGIN:VCALENDAR
VERSION:2.0
PRODID:-//Tukios.com/
BEGIN:VEVENT
UID:4055b1c7-800a-456c-85b1-eb59bd4f3007@www.kramer-morrisfuneralhome.com
DTSTAMP:20260420T173139Z
DTSTART:20260425T140000Z
DTEND:20260425T150000Z
SUMMARY:Visitation
DESCRIPTION:
URL:https://www.kramer-morrisfuneralhome.com/obituaries/alexzander-foster
LOCATION:Kramer-Morris Funeral Home 700 East Oak Street  Monticello IA 
	52310
GEO:42.23298;-91.18134
END:VEVENT
END:VCALENDAR